Workbook

Sheet CK GASTOS OSN PD MES 1
A1: MINISTERIO DE CULTURA JUVENTUD Y DEPORTES
A2: CENTRO NACIONAL DE LA MUSICA
A3: PRODUCCION OSN | Y3: =+X42+AG36+AG38 -> 0 | CR3: 1538061.4
A4: INFORME DE EJECUCION PRESUPUESTARIO 2024, EGRESOS | H4: 43099.35 | CR4: 7828.5
CN5: 200 | CO5: 202
A6: FECHA | B6: DOCTO # | C6: DETALLE PAGO | D6: 0.01.01 | E6: 0.01.05 | F6: 0.02.01 | G6: 0.02.04 | H6: 0.03.01 | I6: 0.03.02 | J6: 0.03.03 | K6: 0.03.04 | L6: 0.03.99 | M6: 0.04.01 | N6: 0.04.05 | O6: 0.05.01 | P6: 0.05.02 | Q6: 0.05.03 | R6: 0.05.05 | S6: 1.01.01 | T6: 1.01.02 | U6: 1.01.03 | V6: 1.01.04 | W6: 1.01.99 | X6: 1.02.01 | Y6: 1.02.02 | Z6: 1.02.03 | AA6: 1.02.04 | AB6: 1.03.01 | AC6: 1.03.02 | AD6: 1.03.03 | AE6: 1.03.04 | AF6: 1.03.05 | AG6: 1.03.06 | AH6: 1.04.02 | AI6: 1.04.03 | AJ6: 1.04.04 | AK6: 1.04.05 | AL6: 1.04.06 | AM6: 1.04.99 | AN6: 1.05.01 | AO6: 1.05.02 | AP6: 1.05.03 | AQ6: 1.05.04 | AR6: 1.06.01 | AS6: 1.07.01 | AT6: 1.07.02 | AU6: 1.07.03 | AV6: 1.08.01 | AW6: 1.08.04 | AX6: 1.08.05 | AY6: 1.08.06 | AZ6: 1.08.07 | BA6: 1.08.08. | BB6: 1.08.99 | BC6: 1.09.02 | BD6: 1.09.99 | BE6: 1.99.02 | BF6: 1.99.99 | BG6: 2.01.01 | BH6: 2.01.02 | BI6: 2.01.04 | BJ6: 2.01.99 | BK6: 2.02.03 | BL6: 2.03.01 | BM6: 2.03.03 | BN6: 2.03.04 | BO6: 2.03.05 | BP6: 2.03.06 | BQ6: 2.03.99 | BR6: 2.04.01 | BS6: 2.04.02 | BT6: 2.99.01 | BU6: 2.99.03 | BV6: 2.99.04 | BW6: 2.99.05 | BX6: 2.99.06 | BY6: 2.99.07 | BZ6: 2.99.99 | CA6: 3.04.05 | CB6: 5.01.01 | CC6: 5.01.02 | CD6: 5.01.03 | CE6: 5.01.04 | CF6: 5.01.05 | CG6: 5.01.07 | CH6: 5.01.99 | CI6: 5.02.01 | CJ6: 5.02.99 | CK6: 5.99.03 | CL6: 5.99.99 | CM6: 6.01.02 | CN6: 6.01.03 | CO6: 6.01.03 | CP6: 6.02.99 | CQ6: 6.03.01 | CR6: 6.03.99 | CS6: 6.04.01 | CT6: 6.07.01 | CU6: 9.02.01
A8: 45582 | B8: 36227087-4 | C8: RICARDO RUBI CAJA CHICA #22 1.05.01 | AN8: 840
A9: 45582 | B9: 36227087-4 | C9: RICARDO RUBI CAJA CHICA #22 1.08.01 | AV9: 4200
A10: 45582 | B10: 36227087-4 | C10: RICARDO RUBI CAJA CHICA #22 2.04.01 | BR10: 64000
A11: 45582 | B11: 36227087-4 | C11: RICARDO RUBI CAJA CHICA #22 2.99.04 | BV11: 21450
A12: 45582 | B12: 36227087-4 | C12: RICARDO RUBI CAJA CHICA #22 2.99.06 | BX12: 7200.01
A14: 45583 | B14: 36227088-1 | C14: RICARDO RUBI CAJA CHICA #23 1.05.01 | AN14: 1675
A15: 45583 | B15: 36227088-1 | C15: RICARDO RUBI CAJA CHICA #23 1,08,05 | AX15: 10825
A16: 45583 | B16: 36227088-1 | C16: RICARDO RUBI CAJA CHICA #23 2,01,01 | BG16: 9000
A17: 45583 | B17: 36227088-1 | C17: RICARDO RUBI CAJA CHICA #23 2,03,01 | BL17: 1000
A18: 45583 | B18: 36227088-1 | C18: RICARDO RUBI CAJA CHICA #23 2,03,03 | BM18: 14300
A19: 45583 | B19: 36227088-1 | C19: RICARDO RUBI CAJA CHICA #23 2,99,01 | BT19: 1800
A20: 45583 | B20: 36227088-1 | C20: RICARDO RUBI CAJA CHICA #23 2,99,06 | BX20: 3000
A21: 45583 | B21: 36227088-1 | C21: RICARDO RUBI CAJA CHICA #23 1,08,07 | AZ21: 22399.56
A23: 45596 | C23: RICARDO RUBI CAJA CHICA #23 1,05,01 | AN23: 2015
C24: RICARDO RUBI CAJA CHICA #23 1,99,99 | BF24: 7926.95
C25: RICARDO RUBI CAJA CHICA #23 2,01,01 | BG25: 31500
C26: RICARDO RUBI CAJA CHICA #23 2,03,01 | BL26: 1840
C27: RICARDO RUBI CAJA CHICA #23 2,03,05 | BO27: 10000
C28: RICARDO RUBI CAJA CHICA #23 2,03,06 | BP28: 940
B30: 0.01.01 | C30: Sueldos para cargos fijos | D30: 21799888
B31: 0.03.01 | C31: Retribución por años servidos | H31: 8263244.1
B32: 0.03.99 | C32: Otros incentivos salariales | L32: 3455073.6
B33: 0.03.03 | C33: Prohibicion
B34: 0.02.01 | C34: Tiempo extraordinario
B35: 0.03.02 | C35: Restricción al ejercicio liberal de la profesión | I35: 1864586.1
B36: 6.03.99 | C36: Otras prestaciones | CR36: 190493.9
C37: Otras prestaciones INM | CR37: 343640.55
B38: 0.01.05 | C38: Suplencias
B40: 00-004-05 | C40: Aporte Patronal BPDC | N40: 335825
B41: 00-004-01 | C41: Enferm y Maternidad | M41: 9207483
B42: 00-005-01 | C42: Invalidez, Vejez y Muerte | O42: 3640351
B43: 00-005-02 | C43: Fondo Pens Complementaria | P43: 2014957
B44: 00-005-03 | C44: Fondo de capitalización Laboral | Q44: 1007479
C46: ND CC AYA BANCOBCR // AYA 0003402713 | X46: 757680
...

Sheet CK GASTOS OSN PD MES 2
A1: MINISTERIO DE CULTURA JUVENTUD Y DEPORTES
A2: CENTRO NACIONAL DE LA MUSICA | I2: 3057745 | J2: 513051.25 | K2: =+I2+J2 -> 3570796.2
A3: PRODUCCION OSN | I3: 3015546.2 | J3: 513051.25 | K3: =+I3+J3 -> 3528597.5 | CR3: 48920.3
A4: =+'CK GASTOS OSN PD MES 1'!A4 -> INFORME DE EJECUCION PRESUPUESTARIO 2024, EGRESOS | K4: =+K2+K3 -> 7099393.8 | AO4: 44629.41 | AX4: 1716619.9 | CR4: 591 298,75
CN5: 200 | CO5: 202
A6: FECHA | B6: DOCTO # | C6: DETALLE PAGO | D6: 0.01.01 | E6: 0.01.05 | F6: 0.02.01 | G6: 0.02.04 | H6: 0.03.01 | I6: 0.03.02 | J6: 0.03.03 | K6: 0.03.04 | L6: 0.03.99 | M6: 0.04.01 | N6: 0.04.05 | O6: 0.05.01 | P6: 0.05.02 | Q6: 0.05.03 | R6: 0.05.05 | S6: 1.01.01 | T6: 1.01.02 | U6: 1.01.03 | V6: 1.01.04 | W6: 1.01.99 | X6: 1.02.01 | Y6: 1.02.02 | Z6: 1.02.03 | AA6: 1.02.04 | AB6: 1.03.01 | AC6: 1.03.02 | AD6: 1.03.03 | AE6: 1.03.04 | AF6: 1.03.05 | AG6: 1.03.06 | AH6: 1.04.02 | AI6: 1.04.03 | AJ6: 1.04.04 | AK6: 1.04.05 | AL6: 1.04.06 | AM6: 1.04.99 | AN6: 1.05.01 | AO6: 1.05.02 | AP6: 1.05.03 | AQ6: 1.05.04 | AR6: 1.06.01 | AS6: 1.07.01 | AT6: 1.07.02 | AU6: 1.07.03 | AV6: 1.08.01 | AW6: 1.08.04 | AX6: 1.08.05 | AY6: 1.08.06 | AZ6: 1.08.07 | BA6: 1.08.08. | BB6: 1.08.99 | BC6: 1.09.02 | BD6: 1.09.99 | BE6: 1.99.02 | BF6: 1.99.99 | BG6: 2.01.01 | BH6: 2.01.02 | BI6: 2.01.04 | BJ6: 2.01.99 | BK6: 2.02.03 | BL6: 2.03.01 | BM6: 2.03.03 | BN6: 2.03.04 | BO6: 2.03.05 | BP6: 2.03.06 | BQ6: 2.03.99 | BR6: 2.04.01 | BS6: 2.04.02 | BT6: 2.99.01 | BU6: 2.99.03 | BV6: 2.99.04 | BW6: 2.99.05 | BX6: 2.99.06 | BY6: 2.99.07 | BZ6: 2.99.99 | CA6: 3.04.05 | CB6: 5.01.01 | CC6: 5.01.02 | CD6: 5.01.03 | CE6: 5.01.04 | CF6: 5.01.05 | CG6: 5.01.07 | CH6: 5.01.99 | CI6: 5.02.01 | CJ6: 5.02.99 | CK6: 5.99.03 | CL6: 5.99.99 | CM6: 6.01.02 | CN6: 6.01.03 | CO6: 6.01.03 | CP6: 6.02.99 | CQ6: 6.03.01 | CR6: 6.03.99 | CS6: 6,04,01 | CT6: 6.07.01 | CU6: 9.02.01
A8: 45583 | B8: 36227091-0 | C8: RICARDO RUBI CAJA CHICA #25 1.05.02 | AO8: 200
A9: 45583 | B9: 36227091-0 | C9: RICARDO RUBI CAJA CHICA #25 2.01.01 | BG9: 75669
A11: 45583 | C11: RICARDO RUBI CAJA CHICA #26 1.05.02 | AO11: 14060
A12: 45583 | C12: RICARDO RUBI CAJA CHICA #26 1.08.99 | BB12: 132000
A13: 45583 | C13: RICARDO RUBI CAJA CHICA #26 1.08.07 | AZ13: 9944
A15: 45618 | C15: RICARDO RUBI CAJA CHICA #27 1.04.99 | AM15: 85000
A16: 45618 | C16: RICARDO RUBI CAJA CHICA #27 1.05.02 | AO16: 700
A17: 45618 | C17: RICARDO RUBI CAJA CHICA #27 1.08.08 | BA17: 10499.96
A18: 45618 | C18: RICARDO RUBI CAJA CHICA #27 1.09.99 | BD18: 53230.91
A19: 45618 | C19: RICARDO RUBI CAJA CHICA #27 2.03.04 | BN19: 6394.13
A20: 45618 | C20: RICARDO RUBI CAJA CHICA #27 2.04.01 | BR20: 13899.99
A22: APORTE PATRONAL LEY N°17 CONSTITUTIVA DE LA CCSS 1,57% (octubre) | CN22: 1186850.7
A23: APORTE PATRONAL LEY N°17 CONSTITUTIVA DE LA CCSS 0,25% (octubre) | CO23: 188988.96
A25: I QUINCENA | B25: 0.01.01 | C25: Sueldos para cargos fijos | D25: 23171026
A26: I QUINCENA | B26: 0.03.01 | C26: Retribución por años servidos | H26: 7743578.7
A27: I QUINCENA | B27: 0.03.99 | C27: Otros incentivos salariales | L27: 3442458.5
A28: I QUINCENA | B28: 0.03.03 | C28: Prohibicion
A29: I QUINCENA | B29: 0.02.01 | C29: Tiempo extraordinario
A30: I QUINCENA | B30: 0.03.02 | C30: Restricción al ejercicio liberal de la profesión | I30: 1859385
A31: I QUINCENA | B31: 6.03.99 | C31: Otras prestaciones | CR31: 117697.8
A32: I QUINCENA | C32: Otras prestaciones INM
A34: I QUINCENA | B34: 0.03.02 | C34: Restricción al ejercicio liberal de la profesión ( INM ) | I34: 78175
A35: I QUINCENA | B35: 6.03.99 | C35: Otras prestaciones ( INM ) | CR35: 121507.45
A36: II QUINCENA | B36: 6.03.99 | C36: Otras prestaciones ( INM ) | CR36: 43379.5
A37: I QUINCENA | B37: 0.03.02 | C37: Restricción al ejercicio liberal de la profesión ( OSN AC ) | I37: 1633236.2
A38: I QUINCENA | B38: 0.01.01 | C38: Sueldos para cargos fijos CLN | D38: 2021459
A39: II QUINCENA | B39: 0.03.02 | C39: Restricción al ejercicio liberal de la profesión ( INM ) | I39: 78175
A41: II QUINCENA | B41: 0.01.01 | C41: Sueldos para cargos fijos | D41: 23241414
A42: II QUINCENA | B42: 0.03.01 | C42: Retribución por años servidos | H42: 7718104.8
A43: II QUINCENA | B43: 0.03.99 | C43: Otros incentivos salariales | L43: 3413288.4
A44: II QUINCENA | B44: 0.03.03 | C44: Prohibicion
A45: II QUINCENA | B45: 0.02.01 | C45: Tiempo extraordinario
A46: II QUINCENA | B46: 0.03.02 | C46: Restricción al ejercicio liberal de la profesión | I46: 1817186
A47: II QUINCENA | B47: 6.03.99 | C47: Otras prestaciones | CR47: 169725.55
...

Sheet CK GASTOS OSN PD MES 3
A1: MINISTERIO DE CULTURA JUVENTUD Y DEPORTES
A2: CENTRO NACIONAL DE LA MUSICA
A3: PRODUCCION OSN
A4: =+'CK GASTOS OSN PD MES 1'!A4 -> INFORME DE EJECUCION PRESUPUESTARIO 2024, EGRESOS
A6: FECHA | B6: DOCTO # | C6: DETALLE PAGO | D6: 0.01.01 | E6: 0.01.05 | F6: 0.02.01 | G6: 0.02.04 | H6: 0.03.01 | I6: 0.03.02 | J6: 0.03.03 | K6: 0.03.04 | L6: 0.03.99 | M6: 0.04.01 | N6: 0.04.05 | O6: 0.05.01 | P6: 0.05.02 | Q6: 0.05.03 | R6: 0.05.05 | S6: 1.01.01 | T6: 1.01.02 | U6: 1.01.03 | V6: 1.01.04 | W6: 1.01.99 | X6: 1.02.01 | Y6: 1.02.02 | Z6: 1.02.03 | AA6: 1.02.04 | AB6: 1.03.01 | AC6: 1.03.02 | AD6: 1.03.03 | AE6: 1.03.04 | AF6: 1.03.05 | AG6: 1.03.06 | AH6: 1.04.02 | AI6: 1.04.03 | AJ6: 1.04.04 | AK6: 1.04.05 | AL6: 1.04.06 | AM6: 1.04.99 | AN6: 1.05.01 | AO6: 1.05.02 | AP6: 1.05.03 | AQ6: 1.05.04 | AR6: 1.06.01 | AS6: 1.07.01 | AT6: 1.07.02 | AU6: 1.07.03 | AV6: 1.08.01 | AW6: 1.08.04 | AX6: 1.08.05 | AY6: 1.08.06 | AZ6: 1.08.07 | BA6: 1.08.08. | BB6: 1.08.99 | BC6: 1.09.02 | BD6: 1.09.99 | BE6: 1.99.02 | BF6: 1.99.99 | BG6: 2.01.01 | BH6: 2.01.02 | BI6: 2.01.04 | BJ6: 2.01.99 | BK6: 2.02.03 | BL6: 2.03.01 | BM6: 2.03.03 | BN6: 2.03.04 | BO6: 2.03.05 | BP6: 2.03.06 | BQ6: 2.03.99 | BR6: 2.04.01 | BS6: 2.04.02 | BT6: 2.99.01 | BU6: 2.99.03 | BV6: 2.99.04 | BW6: 2.99.05 | BX6: 2.99.06 | BY6: 2.99.07 | BZ6: 2.99.99 | CA6: 3.04.05 | CB6: 5.01.01 | CC6: 5.01.02 | CD6: 5.01.03 | CE6: 5.01.04 | CF6: 5.01.05 | CG6: 5.01.07 | CH6: 5.01.99 | CI6: 5.02.01 | CJ6: 5.02.99 | CK6: 5.99.03 | CL6: 5.99.99 | CM6: 6.01.02 | CN6: 6.01.03 | CO6: 6.01.03 | CP6: 6.02.99 | CQ6: 6.03.01 | CR6: 6,03,99 | CS6: 6.04.01 | CT6: 6,06,01 | CU6: 9.02.01
A9: 45643 | B9: 36227094-1 | C9: RICARDO RUBI CAJA CHICA #28 1,05,01 | AN9: 1950
A10: 45643 | B10: 36227094-1 | C10: RICARDO RUBI CAJA CHICA #28 1,08,99 | BB10: 167999.99
A11: 45643 | B11: 36227094-1 | C11: RICARDO RUBI CAJA CHICA #28 2,99,99 | BZ11: 1699.99
A12: 45643 | B12: 36227094-1 | C12: RICARDO RUBI CAJA CHICA #28 2,99,03 | BU12: 5800.07
A13: 45643 | B13: 36227094-1 | C13: RICARDO RUBI CAJA CHICA #28 2,99,04 | BV13: 4999.6
A15: 45643 | B15: 36227095-6 | C15: RICARDO RUBI CAJA CHICA #29 1,05,01 | AN15: 700
A16: 45643 | B16: 36227095-6 | C16: RICARDO RUBI CAJA CHICA #29 1,08,05 | AX16: 34949.77
A17: 45643 | B17: 36227095-6 | C17: RICARDO RUBI CAJA CHICA #29 1,99,99 | BF17: 85000
A19: 45643 | B19: 36227096-2 | C19: RICARDO RUBI CAJA CHICA #30 2,02,03 | BK19: 22462.5
A20: 45643 | B20: 36227096-2 | C20: RICARDO RUBI CAJA CHICA #30 2,99,03 | BU20: 65500
A21: 45643 | B21: 36227096-2 | C21: RICARDO RUBI CAJA CHICA #30 2,01,01 | BG21: 25000
A22: 45643 | B22: 36227096-2 | C22: RICARDO RUBI CAJA CHICA #30 1,05,01 | AN22: 13780.22
A24: APORTE PATRONAL LEY N°17 CONSTITUTIVA DE LA CCSS 1,57% (noviembre) I QUINCENA | CN24: 568598.24
A25: APORTE PATRONAL LEY N°17 CONSTITUTIVA DE LA CCSS 0,25% (noviembre) I QUINCENA | CO25: 90541.12
A27: APORTE PATRONAL LEY N°17 CONSTITUTIVA DE LA CCSS 1,57% (noviembre) I QUINCENA CLN | CN27: 65891.87
A28: APORTE PATRONAL LEY N°17 CONSTITUTIVA DE LA CCSS 0,25% (noviembre) I QUINCENA CLN | CO28: 10492.34
A30: APORTE PATRONAL LEY N°17 CONSTITUTIVA DE LA CCSS 1,57% (noviembre) II QUINCENA | CN30: 568182.9
A31: APORTE PATRONAL LEY N°17 CONSTITUTIVA DE LA CCSS 0,25% (noviembre) II QUINCENA | CO31: 90474.98
C33: ND CC AYA BANCOBCR // AYA 0003402713 | X33: 12861
A35: ASEMICULTURA | R35: 458255.92
C37: AGUINALDOS | J37: 76038494
A39: CLN | B39: 00-004-05 | C39: Aporte Patronal BPDC | N39: 20984
A40: CLN | B40: 00-004-01 | C40: Enferm y Maternidad | M40: 388216
A41: CLN | B41: 00-005-01 | C41: Invalidez, Vejez y Muerte | O41: 227474
A42: CLN | B42: 00-005-02 | C42: Fondo Pens Complementaria | P42: 125908
A43: CLN | B43: 00-005-03 | C43: Fondo de capitalización Laboral | Q43: 62954
A45: INM | B45: 00-004-05 | C45: Aporte Patronal BPDC | N45: 165740
A46: INM | B46: 00-004-01 | C46: Enferm y Maternidad | M46: 3067926
A47: OSN AC | B47: 00-004-01 | C47: Enferm y Maternidad | M47: 2171448
A48: PRODUCCION OSN | B48: 00-004-05 | C48: Aporte Patronal BPDC | N48: 362032
A49: PRODUCCION OSN | B49: 00-004-01 | C49: Enferm y Maternidad | M49: 6697596
A50: PRODUCCION OSN | B50: 00-005-01 | C50: Invalidez, Vejez y Muerte | O50: 3924429
A51: PRODUCCION OSN | B51: 00-005-02 | C51: Fondo Pens Complementaria | P51: 2172192
A52: PRODUCCION OSN | B52: 00-005-03 | C52: Fondo de capitalización Laboral | Q52: 1086099
B54: 0.01.01 | C54: Sueldos para cargos fijos
...

Sheet Cert.OSN PD
A1: MINISTERIO DE CULTURA JUVENTUD Y DEPORTES | AL1: andres salado | AM1: 3791581.8 | AP1: =+AO1-AO2 -> 0
A2: CENTRO NACIONAL DE LA MUSICA | AH2: =82500-24750 -> 57750 | AI2: 6265 | AK2: 337 231,95 | AL2: sara ferrandez | AM2: 2375914.7 | AN2: 339264 | AR2: =3096216.2-AM9 -> 482990.78 | CD2: bos | CF2: =63630.25-15963.53 -> 47666.72
A3: PRODUCCION OSN | AD3: 732980 | AH3: =+AH2*670 -> 38692500 | AI3: 594 | AL3: paolo bortolamiola | AM3: 464474.73 | AN3: 339264 | BP3: 25790 | BT3: 163719.83 | CD3: =+CF4-CD239 -> 79597.96 | CP3: =+CP4-5615034.84 -> 22131.66
A4: INFORME DE EJECUCION PRESUPUESTARIO 2022, EGRESOS | D4: 0 | E4: 3.326434e+08 | H4: 37907146 | M4: 1437328 | O4: ¢842.197,00 | P4: 466161 | Q4: 233080 | AI4: =+AI2*AI3 -> 3721410 | AK4: =0.61+0.05 -> 0.66 | AL4: wiliam | AM4: 2143033.5 | AN4: 4066560 | AO4: 176672.94 | AP4: =900000/12 -> 75000 | AU4: 25156.1 | CE4: 800000 | CF4: 79597.96 | CP4: =2106138.3+762078.2+2768950 -> 5637166.5
D5: 2 768 950,00 | AL5: leikop | AM5: 3768639.6 | AN5: 4204800 | AO5: =+AO4+AL37 -> -3060.66 | BC5: 32330 | BS5: =+BS81+BS234+BS244 -> 43911.4 | BT5: =+BT263+#REF!+#REF!+#REF!+BT159 -> #REF! | CD5: 15963.53
AN7: -131142.6
Z8: 640544.06
AL9: simon porter | AM9: 2613225.4 | CE9: =+#REF!-CE4 -> #REF! | CM9: 200 | CN9: 202
A10: FECHA | B10: CERT # | C10: DETALLE PAGO | D10: 0.01.01 | E10: 0.01.05 | F10: 0.02.01 | G10: 0.02.04 | H10: 0.03.01 | I10: 0.03.02 | J10: 0.03.03 | K10: 0.03.04 | L10: 0.03.99 | M10: 0.04.01 | N10: 0.04.05 | O10: 0.05.01 | P10: 0.05.02 | Q10: 0.05.03 | R10: 1.01.01 | S10: 1.01.02 | T10: 1.01.03 | U10: 1.01.04 | V10: 1.01.99 | W10: 1.02.01 | X10: 1.02.02 | Y10: 1.02.03 | Z10: 1.02.04 | AA10: 1.03.01 | AB10: 1.03.02 | AC10: 1.03.03 | AD10: 1.03.04 | AE10: 1.03.05 | AF10: 1.03.06 | AG10: 1.04.02 | AH10: 1.04.03 | AI10: 1.04.04 | AJ10: 1.04.05 | AK10: 1.04.06 | AL10: 1.04.99 | AM10: 1.05.01 | AN10: 1.05.02 | AO10: 1.05.03 | AP10: 1.05.04 | AQ10: 1.06.01 | AR10: 1.07.01 | AS10: 1.07.02 | AT10: 1.07.03 | AU10: 1.08.01 | AV10: 1.08.04 | AW10: 1.08.05 | AX10: 1.08.06 | AY10: 1.08.07 | AZ10: 1.08.08. | BA10: 1.08.99 | BB10: 1.09.02 | BC10: 1.09.99 | BD10: 1.99.02 | BE10: 1.99.99 | BF10: 2.01.01 | BG10: 2.01.02 | BH10: 2.01.04 | BI10: 2.01.99 | BJ10: 2.02.03 | BK10: 2.03.01 | BL10: 2.03.03 | BM10: 2.03.04 | BN10: 2.03.05 | BO10: 2.03.06 | BP10: 2.03.99 | BQ10: 2.04.01 | BR10: 2.04.02 | BS10: 2.99.01 | BT10: 2.99.03 | BU10: 2.99.04 | BV10: 2.99.05 | BW10: 2.99.06 | BX10: 2.99.07 | BY10: 2.99.99 | BZ10: 3.04.05 | CA10: 5.01.01 | CB10: 5.01.02 | CC10: 5.01.03 | CD10: 5.01.04 | CE10: 5.01.05 | CF10: 5.01.07 | CG10: 5.01.99 | CH10: 5.02.01 | CI10: 5.02.99 | CJ10: 5.99.03 | CK10: 5.99.99 | CL10: 6.01.02 | CM10: 6.01.03 | CN10: 6.01.03 | CO10: 6.02.99 | CP10: 6.03.01 | CQ10: 6.03.99 | CR10: 6.06.01 | CS10: 6,04.01
A13: 45302 | B13: 01 | C13: CONTRATACION UTILERIA DEL INM Y OSN | AL13: 2000000
A14: 45303 | B14: 02 | C14: TRANSPORTE DE PERSONAS | AM14: 9500000
A15: 45320 | B15: 05 | C15: CONTRATACION EDITUS 4 CONCIERTOS DEL 12 AL 22 DE FEBRERO | AL15: 7910000
A16: 45320 | B16: 06 | C16: CONTRATACION ALEJANDRO GUTIERREZ CONCIERTOS DE SAX FES DEL 26 AL 1 DE MARZO | AL16: 3955000
C17: LIQUIDACION #06 | AL17: -2260000
A18: 45607 | B18: 06 AJUSTE | C18: ALEJANDRO GUTIERREZ | AL18: =2260000-106668.7 -> 2153331.3
A19: 45320 | B19: 08 | C19: RECLAMO ADMINISTRATIVO POR REAJUSTE DE PRECIOS MUEBLES CROMETAL S.A | CD19: 152593.74
C20: SE CADUCA CERTI 08 | CD20: -42664.39
A21: 45320 | B21: 09 | C21: TRANSPORTE DE INSTRUMENTOS PARA EL 2024 | AD21: 7000000
A22: 45322 | B22: 12 | C22: VIATICOS FUNCIONARIO CNM | AN22: 1000000
AN23: -376500
A24: 45331 | B24: 20 | C24: TELECOMUNICACIONES CNM | Z24: =11839774-4000000 -> 7839774
C25: CADUCAR SALDO #20 OSN 1
A26: 45331 | B26: 21 | C26: REPARACIONES Y MANTENIMIENTO DEL EDIFICIO | AU26: 4930288.9
C27: SE CADUCA CERTIFICACION 21 | AU27: -11.31
A28: 45334 | B28: 22 | C28: CONTRATACION ANDRES SALADO DIRECTOR I CTO TO 8 Y 10 DE MARZO | AL28: 5056725
C29: SE CADUCA CERTI 22 (resto el monto caducado y resto el diferencial cambiario para que al sumarlo me de exactamente el monto incluido de la factura.) | AL29: =-596040.5 -> -596040.5
C30: CADUCA LA ORDEN 556 | AL30: -11913.75
A31: 45331 | B31: 22-1 | C31: PRESTACIONES LEGALES JAIME DEL VALLE | CP31: 5682236
A32: 45334 | B32: 23 | C32: CONTRATACION SARA FERRANDEZ SOLISTA INVITADA I CTO TO 8 Y 10 MARZO | AL32: 3168690
C33: SE CADUCA CERTI 23 | AL33: -373496.2
C34: CADUCA LA ORDEN 555 | AL34: -7465.5
A35: 45334 | B35: 24 | C35: CONTRATACION SERVICIOS PROFESIONALES DOS ARTISTAS JOSE ARTURO CHACHON E IVETTE ORTIZ II CTO TO OSN Y 50 ANIVERSARIO CSN | AL35: 4520000
A36: 45334 | B36: 25 | C36: SERVICIOS WILLIAM MORROW DAVENPORT SOLISTA II CTO TO OSN Y 50 ANIVERSARIO CSN | AL36: 2698830
C37: SE CADUCA CERTI 25 | AL37: -179733.6
A38: 45337 | B38: 26 | C38: COMBUSTIBLE VEHICULOS INSTITUCIONALES CNM | BF38: 2900000
C39: CAJA CHICA | BJ39: 3400
A40: 45341 | B40: 29 | C40: SERVICIO DE HOSPEDAJE Y ALIMENTACION DE LOS INVITADOS INTERNACIONALES PARA UN APROXIMADAO DE 168 NOCHES | AN40: 8151000
A41: 45343 | B41: 30 | C41: MANTENIMIENTO Y REPARACION DE VEHICULOS | AW41: 3000000
C42: LIQUIDACION 1,08,05 | AW42: -44428.63
A43: 45358 | B43: 33 | C43: CANCELACION POLIZA VEHICULAR PRIMER SEMESTRE 01-01-AUM-4385-111 | AQ43: 1471660
...

Sheet OSN PD
A1: CENTRO NACIONAL DE LA MÚSICA
A2: PRESUPUESTO ORDINARIO 2024
A3: EGRESOS
A4: ORQUESTA SINFONICA NACIONAL
A5: PRODUCCION
C7: P R E S U P U E S T O 2 0 2 4 | G7: ACUMULADO | H7: OCTUBRE | I7: NOVIEMBRE | J7: DICIEMBRE | K7: IV ESTE TRIMESTRE | L7: TOTAL | M7: CERTIFICADO TOTAL | N7: COMPROMISOS | O7: DISPONIBLE SEGÚN EJECUCION | P7: DISPONIBLE SEGUN EJE CERTIFICADA | Q7: DISPONIBLE CON COMPROMISOS | R7: CUADRO DE MODIFICACIONES INTERNAS | AT7: CUADRO DE MODIFICACIONES E=TERNAS | AZ7: CUADRO DE PRESUPUESTO E=TRAORDINARIO
A8: PARTIDAS Y SUBPARTIDAS | C8: PRESUPUESTO ORDINARIO | D8: PRESUPUESTO EXTRAORDINARIOS | E8: TOTAL MODIFICACIONES INT. - E=T. | F8: PRESUPUESTO FINAL | R8: INTERNA Nº 1 1er. Modificación Presupuestaria (DGPN-H-008) | S8: INTERNA Nº 2 DGPN-H-003 | T8: INTERNA Nº 3 DGPN-H-005 | U8: INTERNA Nº 4 DGPN H-006 | V8: EXTERNA Nº 5 DGPN H-0014 ARTICULO 4 | W8: EXTERNA Nº 6 DGPN H-0014 ARTICULO 2 | X8: EXTERNA Nº 7 DGPN H-0902 | Y8: INTERNA Nº 8 | Z8: INTERNA Nº 9 | AA8: INTERNA Nº10 | AB8: INTERNA Nº 11 | AC8: INTERNA Nº12 | AD8: INTERNA Nº 13 | AE8: INTERNA Nº 14 | AF8: INTERNA Nº 15 | AG8: INTERNA Nº 16 | AH8: INTERNA Nº 17 | AI8: INTERNA Nº 18 | AJ8: INTERNA Nº 19 | AK8: INTERNA Nº 20 | AL8: INTERNA Nº 21 | AM8: INTERNA Nº 22 | AN8: INTERNA Nº 23 | AO8: INTERNA Nº 24 | AP8: INTERNA Nº 25 | AQ8: INTERNA Nº 26 | AR8: N°8 | AS8: TOTAL MODIFICACION INTERNA | AT8: E=TERNA Nº 01 | AU8: E=TERNA Nº 02 | AV8: E=TERNA Nº 03 | AW8: E=TERNA Nº 04 | AX8: E=TERNA Nº05 | AY8: TOTAL MODIFICACION E=TERNA | AZ8: E=TRAORD H-014 ARTICULO #2 | BA8: E=TRAORD DECRETO H-17 | BB8: E=TRAORD agosto | BC8: E=TRAORD Nº 004 | BD8: E=TRAORD Nº 005 | BE8: E=TRAORD Nº 006 | BF8: E=TRAORD Nº 007 | BG8: TOTAL E=TRAOR
A10: 0 | B10: REMUNERACIONES | C10: =SUM(C12:C26) -> 1397402114 | D10: =SUM(D12:D25) -> 0 | E10: =SUM(E12:E25) -> -1.4816161e+08 | F10: =SUM(F12:F26) -> 1.2492405e+09 | G10: 8.1010902e+08 | H10: =SUM(H12:H26) -> 88329713 | I10: =SUM(I12:I26) -> 93835543 | J10: =SUM(J12:J26) -> 1.6486663e+08 | K10: =SUM(K12:K26) -> 3.4703189e+08 | L10: =SUM(L12:L26) -> 1.1571409e+09 | M10: =SUM(M12:M25) -> 0 | N10: =SUM(N12:N27) -> 0 | O10: =SUM(O12:O26) -> 92099592 | P10: =SUM(P12:P26) -> 1.2492405e+09 | Q10: =SUM(Q12:Q26) -> 92099592 | R10: =SUM(R12:R25) -> -17282564 | S10: =SUM(S12:S25) -> 0 | T10: =SUM(T12:T25) -> 0 | U10: =SUM(U12:U25) -> 0 | V10: =SUM(V12:V26) -> -35460000 | W10: =SUM(W12:W25) -> -81323904 | X10: =SUM(X12:X25) -> -18595144 | Y10: =SUM(Y12:Y25) -> 0 | Z10: =SUM(Z12:Z25) -> 0 | AA10: =SUM(AA12:AA25) -> 0 | AB10: =SUM(AB12:AB25) -> 0 | AC10: =SUM(AC12:AC25) -> 0 | AD10: =SUM(AD12:AD25) -> 0 | ... BG10: =SUM(BG12:BG25) -> 0
A12: 0.01.01 | B12: Sueldos para cargos fijos | C12: 598074463 | D12: =+BG12 -> 0 | E12: =+AS12+AY12 -> -27299291 | F12: =+C12+D12+E12 -> 570775172 | G12: 3.7425291e+08 | H12: ='CK GASTOS OSN PD MES 1'!D123 -> 45147223 | I12: =+'CK GASTOS OSN PD MES 2'!D127 -> 48433900 | J12: =+'CK GASTOS OSN PD MES 3'!D137 -> 52836973 | K12: =SUM(H12:J12) -> 1.464181e+08 | L12: =+K12+G12 -> 5.20671e+08 | M12: ='Cert.OSN PD'!D305 -> 0 | N12: =IF(M12>0,(L12-M12),0) -> 0 | O12: =F12-L12 -> 50104169 | P12: =F12-M12 -> 570775172 | Q12: =IF(N12>0,(F12-L12-N12),(F12-L12+N12)) -> 50104169 | R12: 39645344 | T12: -2362500 | V12: -2000000 | W12: -47043450 | X12: -15538685 | AS12: =SUM(R12:AR12) -> -27299291 | AT12: 0 | AY12: =+AT12+AU12+AV12+AW12+AX12 -> 0 | BG12: =SUM(AZ12:BD12) -> 0
A13: 0.01.05 | B13: Suplencias | D13: =+BG13 -> 0 | E13: =+AS13+AY13 -> 0 | F13: =+C13+D13+E13 -> 0 | G13: 0 | H13: ='CK GASTOS OSN PD MES 1'!E123 -> 0 | I13: ='CK GASTOS OSN PD MES 2'!E127 -> 0 | J13: ='CK GASTOS OSN PD MES 3'!E137 -> 0 | K13: =SUM(H13:J13) -> 0 | L13: =+K13+G13 -> 0 | M13: =+'Cert.OSN PD'!E305 -> 0 | N13: =IF(M13>0,(L13-M13),0) -> 0 | O13: =F13-L13 -> 0 | P13: =F13-M13 -> 0 | Q13: =IF(N13>0,(F13-L13-N13),(F13-L13+N13)) -> 0 | AS13: =SUM(R13:AR13) -> 0 | AT13: 0 | AY13: =+AT13+AU13+AV13+AW13+AX13 -> 0 | BG13: =SUM(AZ13:BD13) -> 0
A14: 0.02.01 | B14: Tiempo extraordinario | D14: =+BG14 -> 0 | E14: =+AS14+AY14 -> 0 | F14: =+C14+D14+E14 -> 0 | G14: 0 | H14: ='CK GASTOS OSN PD MES 1'!F123 -> 0 | I14: ='CK GASTOS OSN PD MES 2'!F127 -> 0 | J14: ='CK GASTOS OSN PD MES 3'!F137 -> 0 | K14: =SUM(H14:J14) -> 0 | L14: =+K14+G14 -> 0 | M14: =+'Cert.OSN PD'!F305 -> 0 | N14: =IF(M14>0,(L14-M14),0) -> 0 | O14: =F14-L14 -> 0 | P14: =F14-M14 -> 0 | Q14: =IF(N14>0,(F14-L14-N14),(F14-L14+N14)) -> 0 | AS14: =SUM(R14:AR14) -> 0 | AT14: 0 | AY14: =+AT14+AU14+AV14+AW14+AX14 -> 0 | BG14: =SUM(AZ14:BD14) -> 0
A15: 0.02.04 | B15: Vacaciones | D15: =+BG15 -> 0 | E15: =+AS15+AY15 -> 0 | F15: =+C15+D15+E15 -> 0 | G15: 0 | H15: ='CK GASTOS OSN PD MES 1'!G123 -> 0 | I15: ='CK GASTOS OSN PD MES 2'!G127 -> 0 | J15: ='CK GASTOS OSN PD MES 3'!G137 -> 0 | K15: =SUM(H15:J15) -> 0 | L15: =+K15+G15 -> 0 | M15: =+'Cert.OSN PD'!G305 -> 0 | N15: =IF(M15>0,(L15-M15),0) -> 0 | O15: =F15-L15 -> 0 | P15: =F15-M15 -> 0 | Q15: =IF(N15>0,(F15-L15-N15),(F15-L15+N15)) -> 0 | AS15: =SUM(R15:AR15) -> 0 | AT15: 0 | AY15: =+AT15+AU15+AV15+AW15+AX15 -> 0 | BG15: =SUM(AZ15:BD15) -> 0
A16: 0.03.01 | B16: Retribuciòn por años servidos | C16: 234900000 | D16: =+BG16 -> 0 | E16: =+AS16+AY16 -> -61156795 | F16: =+C16+D16+E16 -> 173743205 | G16: 1.353252e+08 | H16: ='CK GASTOS OSN PD MES 1'!H123 -> 16014119 | I16: ='CK GASTOS OSN PD MES 2'!H127 -> 15461683 | J16: ='CK GASTOS OSN PD MES 3'!H137 -> 6942204.5 | K16: =SUM(H16:J16) -> 38418007 | L16: =+K16+G16 -> 173743205 | M16: =+'Cert.OSN PD'!H305 -> 0 | N16: =IF(M16>0,(L16-M16),0) -> 0 | O16: =F16-L16 -> 0 | P16: =F16-M16 -> 173743205 | Q16: =IF(N16>0,(F16-L16-N16),(F16-L16+N16)) -> 0 | R16: -36246795 | V16: -15000000 | W16: -9910000 | AS16: =SUM(R16:AR16) -> -61156795 | AT16: 0 | AY16: =+AT16+AU16+AV16+AW16+AX16 -> 0 | BG16: =SUM(AZ16:BD16) -> 0
A17: 0.03.02 | B17: Restricciòn al ejercicio liberal de la profesiòn | C17: 60192330 | D17: =+BG17 -> 0 | E17: =+AS17+AY17 -> -12839535 | F17: =+C17+D17+E17 -> 47352795 | G17: 36042560 | H17: ='CK GASTOS OSN PD MES 1'!I123 -> 3802146.1 | I17: ='CK GASTOS OSN PD MES 2'!I127 -> 5466157.2 | J17: ='CK GASTOS OSN PD MES 3'!I137 -> 2041931.3 | K17: =SUM(H17:J17) -> 11310235 | L17: =+K17+G17 -> 47352795 | M17: =+'Cert.OSN PD'!I305 -> 0 | N17: =IF(M17>0,(L17-M17),0) -> 0 | O17: =F17-L17 -> 0.25 | P17: =F17-M17 -> 47352795 | Q17: =IF(N17>0,(F17-L17-N17),(F17-L17+N17)) -> 0.25 | R17: -8669680 | V17: -1000000 | W17: -3169855 | AS17: =SUM(R17:AR17) -> -12839535 | AT17: 0 | AY17: =+AT17+AU17+AV17+AW17+AX17 -> 0 | BG17: =SUM(AZ17:BD17) -> 0
A18: 0.03.03 | B18: Dècimo tercer mes | C18: 99826152 | D18: =+BG18 -> 0 | E18: =+AS18+AY18 -> -7928600 | F18: =+C18+D18+E18 -> 91897552 | G18: 5066328 | H18: ='CK GASTOS OSN PD MES 1'!J123 -> 0 | I18: ='CK GASTOS OSN PD MES 2'!J127 -> 0 | J18: ='CK GASTOS OSN PD MES 3'!J137 -> 76038494 | K18: =SUM(H18:J18) -> 76038494 | L18: =+K18+G18 -> 81104822 | M18: =+'Cert.OSN PD'!J305 -> 0 | N18: =IF(M18>0,(L18-M18),0) -> 0 | O18: =F18-L18 -> 10792730 | P18: =F18-M18 -> 91897552 | Q18: =IF(N18>0,(F18-L18-N18),(F18-L18+N18)) -> 10792730 | V18: -2665600 | W18: -5263000 | AS18: =SUM(R18:AR18) -> -7928600 | AT18: 0 | AY18: =+AT18+AU18+AV18+AW18+AX18 -> 0 | BG18: =SUM(AZ18:BD18) -> 0
A19: 0.03.04 | B19: Salario escolar | C19: 71459964 | D19: =+BG19 -> 0 | E19: =+AS19+AY19 -> -3399769 | F19: =+C19+D19+E19 -> 68060195 | G19: 67191130 | H19: ='CK GASTOS OSN PD MES 1'!K123 -> 0 | I19: ='CK GASTOS OSN PD MES 2'!K127 -> 0 | J19: ='CK GASTOS OSN PD MES 3'!K137 -> 0 | K19: =SUM(H19:J19) -> 0 | L19: =+K19+G19 -> 67191130 | M19: =+'Cert.OSN PD'!K305 -> 0 | N19: =IF(M19>0,(L19-M19),0) -> 0 | O19: =F19-L19 -> 869065.44 | P19: =F19-M19 -> 68060195 | Q19: =IF(N19>0,(F19-L19-N19),(F19-L19+N19)) -> 869065.44 | R19: -5762269 | T19: 2362500 | AS19: =SUM(R19:AR19) -> -3399769 | AT19: 0 | AY19: =+AT19+AU19+AV19+AW19+AX19 -> 0 | BG19: =SUM(AZ19:BD19) -> 0
A20: 0.03.99 | B20: Otros incentivos salariales | C20: 91694420 | D20: =+BG20 -> 0 | E20: =+AS20+AY20 -> -11751110 | F20: =+C20+D20+E20 -> 79943310 | G20: 60097211 | H20: ='CK GASTOS OSN PD MES 1'!L123 -> 6914579.7 | I20: ='CK GASTOS OSN PD MES 2'!L127 -> 6855746.8 | J20: ='CK GASTOS OSN PD MES 3'!L137 -> 6075772.7 | K20: =SUM(H20:J20) -> 19846099 | L20: =+K20+G20 -> 79943310 | M20: =+'Cert.OSN PD'!L305 -> 0 | N20: =IF(M20>0,(L20-M20),0) -> 0 | O20: =F20-L20 -> 0 | P20: =F20-M20 -> 79943310 | Q20: =IF(N20>0,(F20-L20-N20),(F20-L20+N20)) -> 0 | R20: -6249164 | V20: -4000000 | W20: -1501946 | AS20: =SUM(R20:AR20) -> -11751110 | AT20: 0 | AY20: =+AT20+AU20+AV20+AW20+AX20 -> 0 | BG20: =SUM(AZ20:BD20) -> 0
A21: 0.04.01 | B21: Contribuciòn Pat.Seguro Salud CCSS | C21: 119159763 | D21: =+BG21 -> 0 | E21: =+AS21+AY21 -> -12106866 | F21: =+C21+D21+E21 -> 1.070529e+08 | G21: 62388587 | H21: ='CK GASTOS OSN PD MES 1'!M123 -> 9207483 | I21: ='CK GASTOS OSN PD MES 2'!M127 -> 9564880 | J21: ='CK GASTOS OSN PD MES 3'!M137 -> 12325186 | K21: =SUM(H21:J21) -> 31097549 | L21: =+K21+G21 -> 93486136 | M21: =+'Cert.OSN PD'!M305 -> 0 | N21: =IF(M21>0,(L21-M21),0) -> 0 | O21: =F21-L21 -> 13566761 | P21: =F21-M21 -> 1.070529e+08 | Q21: =IF(N21>0,(F21-L21-N21),(F21-L21+N21)) -> 13566761 | V21: -2960000 | W21: -7709538.1 | X21: -1437328 | AS21: =SUM(R21:AR21) -> -12106866 | AT21: 0 | AY21: =+AT21+AU21+AV21+AW21+AX21 -> 0 | BG21: =SUM(AZ21:BD21) -> 0
A22: 0.04.05 | B22: Contribución Pat. BPDC | C22: 5704983 | D22: =+BG22 -> 0 | E22: =+AS22+AY22 -> -584918 | F22: =+C22+D22+E22 -> 5120065 | G22: 3214425.9 | H22: ='CK GASTOS OSN PD MES 1'!N123 -> 335825 | I22: ='CK GASTOS OSN PD MES 2'!N127 -> 390647 | J22: ='CK GASTOS OSN PD MES 3'!N137 -> 548756 | K22: =SUM(H22:J22) -> 1275228 | L22: =+K22+G22 -> 4489653.9 | M22: =+'Cert.OSN PD'!N305 -> 0 | N22: =IF(M22>0,(L22-M22),0) -> 0 | O22: =F22-L22 -> 630411.09 | P22: =F22-M22 -> 5120065 | Q22: =IF(N22>0,(F22-L22-N22),(F22-L22+N22)) -> 630411.09 | V22: -160000 | W22: -347225 | X22: -77693 | AS22: =SUM(R22:AR22) -> -584918 | AT22: 0 | AY22: =+AT22+AU22+AV22+AW22+AX22 -> 0 | BG22: =SUM(AZ22:BD22) -> 0
A23: 0.05.01 | B23: Contribución Pat. Seguro Pensiones CCSS | C23: 56871776 | D23: =+BG23 -> 0 | E23: =+AS23+AY23 -> -6276507 | F23: =+C23+D23+E23 -> 50595269 | G23: 34856095 | H23: ='CK GASTOS OSN PD MES 1'!O123 -> 3640351 | I23: ='CK GASTOS OSN PD MES 2'!O127 -> 4092416 | J23: ='CK GASTOS OSN PD MES 3'!O137 -> 4151903 | K23: =SUM(H23:J23) -> 11884670 | L23: =+K23+G23 -> 46740765 | M23: =+'Cert.OSN PD'!O305 -> 0 | N23: =IF(M23>0,(L23-M23),0) -> 0 | O23: =F23-L23 -> 3854504.5 | P23: =F23-M23 -> 50595269 | Q23: =IF(N23>0,(F23-L23-N23),(F23-L23+N23)) -> 3854504.5 | V23: -1734400 | W23: -3699910 | X23: -842197 | AS23: =SUM(R23:AR23) -> -6276507 | AT23: 0 | AY23: =+AT23+AU23+AV23+AW23+AX23 -> 0 | BG23: =SUM(AZ23:BD23) -> 0
A24: 0.05.02 | B24: Aporte Pat. Régimen Obligatorio Pens.Com. | C24: 31478842 | D24: =+BG24 -> 0 | E24: =+AS24+AY24 -> -3226161 | F24: =+C24+D24+E24 -> 28252681 | G24: 19286583 | H24: ='CK GASTOS OSN PD MES 1'!P123 -> 2014957 | I24: ='CK GASTOS OSN PD MES 2'!P127 -> 2265005 | J24: ='CK GASTOS OSN PD MES 3'!P137 -> 2298100 | K24: =SUM(H24:J24) -> 6578062 | L24: =+K24+G24 -> 25864645 | M24: =+'Cert.OSN PD'!P305 -> 0 | N24: =IF(M24>0,(L24-M24),0) -> 0 | O24: =F24-L24 -> 2388035.9 | P24: =F24-M24 -> 28252681 | Q24: =IF(N24>0,(F24-L24-N24),(F24-L24+N24)) -> 2388035.9 | V24: -960000 | W24: -1800000 | X24: -466161 | AS24: =SUM(R24:AR24) -> -3226161 | AT24: 0 | AY24: =+AT24+AU24+AV24+AW24+AX24 -> 0 | BG24: =SUM(AZ24:BD24) -> 0
A25: 0.05.03 | B25: Aporte Pat. al Fondo Cap. Laboral | C25: 15739421 | D25: =+BG25 -> 0 | E25: =+AS25+AY25 -> -1592060 | F25: =+C25+D25+E25 -> 14147361 | G25: 9643276.8 | H25: ='CK GASTOS OSN PD MES 1'!Q123 -> 1007479 | I25: ='CK GASTOS OSN PD MES 2'!Q127 -> 1132500 | J25: ='CK GASTOS OSN PD MES 3'!Q137 -> 1149053 | K25: =SUM(H25:J25) -> 3289032 | L25: =+K25+G25 -> 12932309 | M25: =+'Cert.OSN PD'!Q305 -> 0 | N25: =IF(M25>0,(L25-M25),0) -> 0 | O25: =F25-L25 -> 1215052.2 | P25: =F25-M25 -> 14147361 | Q25: =IF(N25>0,(F25-L25-N25),(F25-L25+N25)) -> 1215052.2 | V25: -480000 | W25: -878980 | X25: -233080 | AS25: =SUM(R25:AR25) -> -1592060 | AT25: 0 | AY25: =+AT25+AU25+AV25+AW25+AX25 -> 0 | BG25: =SUM(AZ25:BF25) -> 0
A26: 0.05.05 | B26: Contribución Patronal a fondos administrados por entes privados | C26: 12300000 | D26: =+BG26 -> 0 | E26: =+AS26+AY26 -> 0 | F26: =+C26+D26+E26 -> 12300000 | G26: 2744723.8 | H26: =+'CK GASTOS OSN PD MES 1'!R123 -> 245549.55 | I26: =+'CK GASTOS OSN PD MES 2'!R127 -> 172608.29 | J26: =+'CK GASTOS OSN PD MES 3'!R137 -> 458255.92 | K26: =SUM(H26:J26) -> 876413.76 | L26: =+K26+G26 -> 3621137.6 | M26: =+'Cert.OSN PD'!Q306 -> 0 | N26: =IF(M26>0,(L26-M26),0) -> 0 | O26: =F26-L26 -> 8678862.4 | P26: =F26-M26 -> 12300000 | Q26: =IF(N26>0,(F26-L26-N26),(F26-L26+N26)) -> 8678862.4 | V26: -4500000 | AT26: 0
AT27: 0
A28: 1 | B28: SERVICIOS | C28: =SUM(C30:C69) -> 198563426 | D28: =SUM(D30:D69) -> 0 | E28: =SUM(E30:E69) -> 16095359 | F28: =SUM(F30:F69) -> 214658785 | G28: 1.5597745e+08 | H28: =SUM(H29:H69) -> 17317655 | I28: =SUM(I29:I69) -> 15414784 | J28: =SUM(J29:J69) -> 15701268 | K28: =SUM(K29:K69) -> 48433706 | L28: =SUM(L29:L69) -> 2.0441116e+08 | M28: =SUM(M30:M69) -> 1.9891556e+08 | N28: =SUM(N30:N69) -> -3803973.3 | O28: =SUM(O30:O69) -> 10247627 | P28: =SUM(P30:P69) -> 15743222 | Q28: =SUM(Q30:Q69) -> 6443653.4 | R28: =SUM(R30:R69) -> 0 | S28: =SUM(S30:S69) -> -177630 | T28: =SUM(T30:T69) -> 11273000 | ... AS28: =SUM(AS30:AS69) -> 16095359 | AT28: 0 | AU28: =SUM(AU31:AU70) -> 0 | AV28: =SUM(AV31:AV70) -> 0 | AW28: =SUM(AW31:AW70) -> 0 | AX28: =SUM(AX31:AX70) -> 0 | AY28: =SUM(AY31:AY70) -> 0 | AZ28: =SUM(AZ30:AZ70) -> 0 | BA28: =SUM(BA31:BA70) -> 0 | BB28: =SUM(BB31:BB70) -> 0 | BC28: =SUM(BC30:BC70) -> 0 | BD28: =SUM(BD31:BD70) -> 0 | BE28: =SUM(BE31:BE70) -> 0 | BF28: =SUM(BF31:BF70) -> 0 | BG28: =SUM(BG31:BG70) -> 0
AT29: 0
A30: 1.01.01 | B30: Alquiler de edificios, locales y terrenos | D30: =+BG30 -> 0 | E30: =+AS30+AY30 -> 0 | F30: =+C30+D30+E30 -> 0 | G30: 0 | H30: ='CK GASTOS OSN PD MES 1'!S$123 -> 0 | I30: ='CK GASTOS OSN PD MES 2'!S$127 -> 0 | J30: =+'CK GASTOS OSN PD MES 3'!S137 -> 0 | K30: =SUM(H30:J30) -> 0 | L30: =+K30+G30 -> 0 | M30: =+'Cert.OSN PD'!R305 -> 0 | N30: =IF(M30>0,(L30-M30),0) -> 0 | O30: =F30-L30 -> 0 | P30: =F30-M30 -> 0 | Q30: =IF(N30>0,(F30-L30-N30),(F30-L30+N30)) -> 0 | AS30: =SUM(R30:AR30) -> 0 | AT30: 0 | BG30: =SUM(AZ30:BF30) -> 0
A31: 1.01.02 | B31: Alquiler de maquinaria, equipo y mobiliario | D31: =+BG31 -> 0 | E31: =+AS31+AY33 -> 0 | F31: =+C31+D31+E31 -> 0 | G31: 0 | H31: ='CK GASTOS OSN PD MES 1'!T$123 -> 0 | I31: ='CK GASTOS OSN PD MES 2'!T$127 -> 0 | J31: ='CK GASTOS OSN PD MES 3'!T$137 -> 0 | K31: =SUM(H31:J31) -> 0 | L31: =+K31+G31 -> 0 | M31: =+'Cert.OSN PD'!S305 -> 0 | N31: =IF(M31>0,(L31-M31),0) -> 0 | O31: =F31-L31 -> 0 | P31: =F31-M31 -> 0 | Q31: =IF(N31>0,(F31-L31-N31),(F31-L31+N31)) -> 0 | AS31: =SUM(R31:AR31) -> 0 | AT31: 0 | AY31: =+AT31+AU31+AV31+AW31+AX31 -> 0 | BG31: =SUM(AZ31:BF31) -> 0
A32: 1.01.03 | B32: Alquiler de equipo de cómputo | D32: =+BG32 -> 0 | E32: =+AS32+AY34 -> 0 | F32: =+C32+D32+E32 -> 0 | G32: 0 | H32: ='CK GASTOS OSN PD MES 1'!T$123 -> 0 | I32: ='CK GASTOS OSN PD MES 2'!T$127 -> 0 | J32: =+'CK GASTOS OSN PD MES 3'!U137 -> 0 | K32: =SUM(H32:J32) -> 0 | L32: =+K32+G32 -> 0 | M32: =+'Cert.OSN PD'!T305 -> 0 | N32: =IF(M32>0,(L32-M32),0) -> 0 | O32: =F32-L32 -> 0 | P32: =F32-M32 -> 0 | Q32: =IF(N32>0,(F32-L32-N32),(F32-L32+N32)) -> 0 | AS32: =SUM(R32:AR32) -> 0 | AT32: 0
A33: 1.01.04 | B33: Alquileres y derechos para telecomunicaciones | D33: =+BG33 -> 0 | E33: =+AS33+AY34 -> 0 | F33: =+C33+D33+E33 -> 0 | G33: 0 | H33: ='CK GASTOS OSN PD MES 1'!V$123 -> 0 | I33: ='CK GASTOS OSN PD MES 2'!V$127 -> 0 | J33: ='CK GASTOS OSN PD MES 3'!V$137 -> 0 | K33: =SUM(H33:J33) -> 0 | L33: =+K33+G33 -> 0 | M33: =+'Cert.OSN PD'!U305 -> 0 | N33: =IF(M33>0,(L33-M33),0) -> 0 | O33: =F33-L33 -> 0 | P33: =F33-M33 -> 0 | Q33: =IF(N33>0,(F33-L33-N33),(F33-L33+N33)) -> 0 | AS33: =SUM(R33:AR33) -> 0 | AT33: 0 | AY33: =+AT33+AU33+AV33+AW33+AX33 -> 0 | BG33: =SUM(AZ33:BF33) -> 0
A34: 1.01.99 | B34: Otros alquileres | D34: =+BG34 -> 0 | E34: =+AS34+AY35 -> 3435954 | F34: =+C34+D34+E34 -> 3435954 | G34: 3435954 | H34: ='CK GASTOS OSN PD MES 1'!W$123 -> 0 | I34: ='CK GASTOS OSN PD MES 2'!W$127 -> 0 | J34: ='CK GASTOS OSN PD MES 3'!W$137 -> 0 | K34: =SUM(H34:J34) -> 0 | L34: =+K34+G34 -> 3435954 | M34: =+'Cert.OSN PD'!V305 -> 3435954 | N34: =IF(M34>0,(L34-M34),0) -> 0 | O34: =F34-L34 -> 0 | P34: =F34-M34 -> 0 | Q34: =IF(N34>0,(F34-L34-N34),(F34-L34+N34)) -> 0 | S34: =3135965+300000 -> 3435965 | U34: -11 | AS34: =SUM(R34:AR34) -> 3435954 | AT34: 0 | BG34: =SUM(AZ34:BF34) -> 0
A35: 1.02.01 | B35: Servicio de agua y alcantarillado | C35: 6600020 | D35: =+BG35 -> 0 | E35: =+AS35+AY36 -> 0 | F35: =+C35+D35+E35 -> 6600020 | G35: 5368347.6 | H35: ='CK GASTOS OSN PD MES 1'!X$123 -> 757680 | I35: ='CK GASTOS OSN PD MES 2'!X$127 -> 184680 | J35: ='CK GASTOS OSN PD MES 3'!X$137 -> 12861 | K35: =SUM(H35:J35) -> 955221 | L35: =+K35+G35 -> 6323568.6 | M35: =+'Cert.OSN PD'!W305 -> 0 | N35: =IF(M35>0,(L35-M35),0) -> 0 | O35: =F35-L35 -> 276451.36 | P35: =F35-M35 -> 6600020 | Q35: =IF(N35>0,(F35-L35-N35),(F35-L35+N35)) -> 276451.36 | AS35: =SUM(R35:AR35) -> 0 | AT35: 0 | AY35: =+AT35+AU35+AV35+AW35+AX35 -> 0 | BG35: =SUM(AZ35:BF35) -> 0
A36: 1.02.02 | B36: Servicio de energìa elèctrica | C36: 5236000 | D36: =+BG36 -> 0 | E36: =+AS36+AY37 -> -2260000 | F36: =+C36+D36+E36 -> 2976000 | G36: 2976000 | H36: ='CK GASTOS OSN PD MES 1'!Y$123 -> 0 | I36: ='CK GASTOS OSN PD MES 2'!Y$127 -> 0 | J36: ='CK GASTOS OSN PD MES 3'!Y$137 -> 0 | K36: =SUM(H36:J36) -> 0 | L36: =+K36+G36 -> 2976000 | M36: =+'Cert.OSN PD'!X305 -> 0 | N36: =IF(M36>0,(L36-M36),0) -> 0 | O36: =F36-L36 -> 0 | P36: =F36-M36 -> 2976000 | Q36: =IF(N36>0,(F36-L36-N36),(F36-L36+N36)) -> 0 | S36: -2260000 | AS36: =SUM(R36:AR36) -> -2260000 | AT36: 0 | AY36: =+AT36+AU36+AV36+AW36+AX36 -> 0 | BG36: =SUM(AZ36:BF36) -> 0
A37: 1.02.03 | B37: Servicio de correo | C37: 480000 | D37: =+BG37 -> 0 | E37: =+AS37+AY38 -> -280000 | F37: =+C37+D37+E37 -> 200000 | G37: 157965 | H37: ='CK GASTOS OSN PD MES 1'!Z$123 -> 0 | I37: ='CK GASTOS OSN PD MES 2'!Z$127 -> 0 | J37: ='CK GASTOS OSN PD MES 3'!Z$137 -> 0 | K37: =SUM(H37:J37) -> 0 | L37: =+K37+G37 -> 157965 | M37: =+'Cert.OSN PD'!Y305 -> 157965 | N37: =IF(M37>0,(L37-M37),0) -> 0 | O37: =F37-L37 -> 42035 | P37: =F37-M37 -> 42035 | Q37: =IF(N37>0,(F37-L37-N37),(F37-L37+N37)) -> 42035 | S37: -280000 | AS37: =SUM(R37:AR37) -> -280000 | AT37: 0 | AY37: =+AT37+AU37+AV37+AW37+AX37 -> 0 | BG37: =SUM(AZ37:BF37) -> 0
A38: 1.02.04 | B38: Servicio de telecomunicaciones | C38: 12537320 | D38: =+BG38 -> 0 | E38: =+AS38+AY39 -> -4336275 | F38: =+C38+D38+E38 -> 8201045 | G38: 6725167.1 | H38: ='CK GASTOS OSN PD MES 1'!AA$123 -> 887805.26 | I38: ='CK GASTOS OSN PD MES 2'!AA$127 -> 0 | J38: ='CK GASTOS OSN PD MES 3'!AA$137 -> 588062.65 | K38: =SUM(H38:J38) -> 1475867.9 | L38: =+K38+G38 -> 8201035 | M38: =+'Cert.OSN PD'!Z305 -> 8201035 | N38: =IF(M38>0,(L38-M38),0) -> 0 | O38: =F38-L38 -> 10 | P38: =F38-M38 -> 10 | Q38: =IF(N38>0,(F38-L38-N38),(F38-L38+N38)) -> 10 | S38: =-3135965-177630 -> -3313595 | U38: -1022680 | AS38: =SUM(R38:AR38) -> -4336275 | AT38: 0 | AY38: =+AT38+AU38+AV38+AW38+AX38 -> 0 | BG38: =SUM(AZ38:BF38) -> 0
A39: 1.03.01 | B39: Información | C39: 500000 | D39: =+BG39 -> 0 | E39: =+AS39+AY40 -> -300000 | F39: =+C39+D39+E39 -> 200000 | G39: 0 | H39: ='CK GASTOS OSN PD MES 1'!AB$123 -> 0 | I39: ='CK GASTOS OSN PD MES 2'!AB$127 -> 0 | J39: ='CK GASTOS OSN PD MES 3'!AB$137 -> 0 | K39: =SUM(H39:J39) -> 0 | L39: =+K39+G39 -> 0 | M39: =+'Cert.OSN PD'!AA305 -> 200000 | N39: =IF(M39>0,(L39-M39),0) -> -200000 | O39: =F39-L39 -> 200000 | P39: =F39-M39 -> 0 | Q39: =IF(N39>0,(F39-L39-N39),(F39-L39+N39)) -> 0 | S39: -300000 | AS39: =SUM(R39:AR39) -> -300000 | AT39: 0 | AY39: =+AT39+AU39+AV39+AW39+AX39 -> 0 | BG39: =SUM(AZ39:BF39) -> 0
A40: 1.03.02 | B40: Publicidad y propaganda | C40: 700000 | D40: =+BG40 -> 0 | E40: =+AS40+AY41 -> 0 | F40: =+C40+D40+E40 -> 700000 | G40: 697904.08 | H40: ='CK GASTOS OSN PD MES 1'!AC$123 -> 0 | I40: ='CK GASTOS OSN PD MES 2'!AC$127 -> 0 | J40: ='CK GASTOS OSN PD MES 3'!AC$137 -> 0 | K40: =SUM(H40:J40) -> 0 | L40: =+K40+G40 -> 697904.08 | M40: =+'Cert.OSN PD'!AB305 -> 697904.08 | N40: =IF(M40>0,(L40-M40),0) -> 0 | O40: =F40-L40 -> 2095.92 | P40: =F40-M40 -> 2095.92 | Q40: =IF(N40>0,(F40-L40-N40),(F40-L40+N40)) -> 2095.92 | AS40: =SUM(R40:AR40) -> 0 | AT40: 0 | AY40: =+AT40+AU40+AV40+AW40+AX40 -> 0 | BG40: =SUM(AZ40:BF40) -> 0
A41: 1.03.03 | B41: Impresión, encuadernación y otros | C41: 150000 | D41: =+BG41 -> 0 | E41: =+AS41+AY42 -> 0 | F41: =+C41+D41+E41 -> 150000 | G41: 150000 | H41: ='CK GASTOS OSN PD MES 1'!AD$123 -> 0 | I41: ='CK GASTOS OSN PD MES 2'!AD$127 -> 0 | J41: ='CK GASTOS OSN PD MES 3'!AD$137 -> 0 | K41: =SUM(H41:J41) -> 0 | L41: =+K41+G41 -> 150000 | M41: =+'Cert.OSN PD'!AC305 -> 150000 | N41: =IF(M41>0,(L41-M41),0) -> 0 | O41: =F41-L41 -> 0 | P41: =F41-M41 -> 0 | Q41: =IF(N41>0,(F41-L41-N41),(F41-L41+N41)) -> 0 | AS41: =SUM(R41:AR41) -> 0 | AT41: 0 | AY41: =+AT41+AU41+AV41+AW41+AX41 -> 0 | BG41: =SUM(AZ41:BF41) -> 0
A42: 1.03.04 | B42: Transporte de bienes | C42: 7000000 | D42: =+BG42 -> 0 | E42: =+AS42+AY43 -> 1680000 | F42: =+C42+D42+E42 -> 8680000 | G42: 6785989 | H42: ='CK GASTOS OSN PD MES 1'!AE$123 -> 732918 | I42: ='CK GASTOS OSN PD MES 2'!AE$127 -> 748512 | J42: ='CK GASTOS OSN PD MES 3'!AE$137 -> 0 | K42: =SUM(H42:J42) -> 1481430 | L42: =+K42+G42 -> 8267419 | M42: =+'Cert.OSN PD'!AD305 -> 8680000 | N42: =IF(M42>0,(L42-M42),0) -> -412581 | O42: =F42-L42 -> 412581 | P42: =F42-M42 -> 0 | Q42: =IF(N42>0,(F42-L42-N42),(F42-L42+N42)) -> 0 | S42: 1680000 | AS42: =SUM(R42:AR42) -> 1680000 | AT42: 0 | AY42: =+AT42+AU42+AV42+AW42+AX42 -> 0 | BG42: =SUM(AZ42:BF42) -> 0
A43: 1.03.05 | B43: Servicios aduaneros | C43: 0 | D43: =+BG43 -> 0 | E43: =+AS43+AY44 -> 0 | F43: =+C43+D43+E43 -> 0 | G43: 0 | H43: ='CK GASTOS OSN PD MES 1'!AF$123 -> 0 | I43: ='CK GASTOS OSN PD MES 2'!AF$127 -> 0 | J43: ='CK GASTOS OSN PD MES 3'!AF$137 -> 0 | K43: =SUM(H43:J43) -> 0 | L43: =+K43+G43 -> 0 | M43: =+'Cert.OSN PD'!AE305 -> 0 | N43: =IF(M43>0,(L43-M43),0) -> 0 | O43: =F43-L43 -> 0 | P43: =F43-M43 -> 0 | Q43: =IF(N43>0,(F43-L43-N43),(F43-L43+N43)) -> 0 | AS43: =SUM(R43:AR43) -> 0 | AT43: 0 | AY43: =+AT43+AU43+AV43+AW43+AX43 -> 0 | BG43: =SUM(AZ43:BF43) -> 0
...

Sheet CK GASTOS OSN AC MES 1
A1: MINISTERIO DE CULTURA JUVENTUD Y DEPORTES
A2: CENTRO NACIONAL DE LA MUSICA | F2: 106256.95
A3: ACTIVIDAD CENTRAL OSN | N3: =+N9+M10+O11+P12+Q15 -> 0
A4: =+'CK GASTOS OSN PD MES 1'!A4 -> INFORME DE EJECUCION PRESUPUESTARIO 2024, EGRESOS
A6: FECHA | B6: DOCTO # | C6: DETALLE PAGO | D6: 0.01.01 | E6: 0.01.05 | F6: 0.02.01 | G6: 0.02.04 | H6: 0.03.01 | I6: 0.03.02 | J6: 0.03.03 | K6: 0.03.04 | L6: 0.03.99 | M6: 0.04.01 | N6: 0.04.05 | O6: 0.05.01 | P6: 0.05.02 | Q6: 0.05.03 | R6: 0.05.05 | S6: 1.01.01 | T6: 1.01.02 | U6: 1.01.04 | V6: 1.01.99 | W6: 1.02.01 | X6: 1.02.02 | Y6: 1.02.03 | Z6: 1.02.04 | AA6: 1.03.01 | AB6: 1.03.02 | AC6: 1.03.03 | AD6: 1.03.04 | AE6: 1.03.05 | AF6: 1.03.06 | AG6: 1.04.02 | AH6: 1.04.03 | AI6: 1.04.04 | AJ6: 1.04.05 | AK6: 1.04.06 | AL6: 1.04.99 | AM6: 1.05.01 | AN6: 1.05.02 | AO6: 1.05.03 | AP6: 1.05.04 | AQ6: 1.06.01 | AR6: 1.07.01 | AS6: 1.07.02 | AT6: 1.08.01 | AU6: 1.08.04 | AV6: 1.08.05 | AW6: 1.08.06 | AX6: 1.08.07 | AY6: 1.08.08. | AZ6: 1.08.99 | BA6: 1.99.02 | BB6: 1.99.99 | BC6: 2.01.01 | BD6: 2.01.02 | BE6: 2.01.04 | BF6: 2.01.99 | BG6: 2.02.03 | BH6: 2.03.01 | BI6: 2.03.03 | BJ6: 2.03.04 | BK6: 2.03.05 | BL6: 2.03.06 | BM6: 2.03.99 | BN6: 2.04.01 | BO6: 2.04.02 | BP6: 2.99.01 | BQ6: 2.99.03 | BR6: 2.99.04 | BS6: 2.99.05 | BT6: 2.99.06 | BU6: 2.99.07 | BV6: 2.99.99 | BW6: 3.04.05 | BX6: 5.01.01 | BY6: 5.01.02 | BZ6: 5.01.03 | CA6: 5.01.04 | CB6: 5.01.05 | CC6: 5.01.07 | CD6: 5.01.99 | CE6: 5.02.01 | CF6: 5.02.99 | CG6: 5.99.03 | CH6: 5.99.99 | CI6: 6.01.02 | CJ6: 6.01.03 (200) | CK6: 6.01.03 (202) | CL6: 6.02.99 | CM6: 6.03.01 | CN6: 6.03.99 | CO6: 6.04.01 | CP6: 6.06.01 | CQ6: 6.07.01 | CR6: 9.02.01
B8: 0.01.01 | C8: Sueldos para cargos fijos | D8: 6980760.5
B9: 0.03.01 | C9: Retribución por años servidos | H9: 1461789.8
B10: 0.03.99 | C10: Otros incentivos salariales | L10: 314242.25
B11: 0.03.03 | C11: Prohibicion
B12: 0.02.01 | C12: Tiempo extraordinario | F12: 120774.5
C13: Tiempo extraordinario INM | F13: 75941.6
C14: Tiempo extraordinario CLN | F14: 106256.95
B15: 0.03.02 | C15: Restricción al ejercicio liberal de la profesión | I15: 1633236.2
C16: Restricción al ejercicio liberal de la profesión INM | I16: 78050
B17: 6.03.99 | C17: Otras prestaciones | CN17: SE PASA A OSN PROD
B18: 0.01.05 | C18: Suplencias | E18: 421475
B20: 00-004-05 | C20: Aporte Patronal BPDC | N20: 110396
B21: 00-004-01 | C21: Enferm y Maternidad | M21: 2042339
B22: 00-005-01 | C22: Invalidez, Vejez y Muerte | O22: 1196701
B23: 00-005-02 | C23: Fondo Pens Complementaria | P23: 662381
B24: 00-005-03 | C24: Fondo de capitalización Laboral | Q24: 331191
A26: II quincena | B26: 0.01.01 | C26: Sueldos para cargos fijos | D26: 7916995.5
A27: II quincena | B27: 0.03.01 | C27: Retribución por años servidos | H27: 1447980
A28: II quincena | B28: 0.03.99 | C28: Otros incentivos salariales | L28: 314242.25
A29: II quincena | B29: 0.03.03 | C29: Prohibicion
A30: II quincena | B30: 0.02.01 | C30: Tiempo extraordinario
A31: II quincena | B31: 0.03.02 | C31: Restricción al ejercicio liberal de la profesión | I31: 1633236.2
A32: II quincena | B32: 6.03.99 | C32: Otras prestaciones
A33: II quincena | C33: Otras prestaciones INM
C34: ASEMICULTURA | R34: 199347.3
B36: APORTE PATRONAL LEY N°17 CONSTITUTIVA DE LA CCSS 1,57% (setiembre) | CJ36: 346645.68
B37: APORTE PATRONAL LEY N°17 CONSTITUTIVA DE LA CCSS 0,25% (setiembre) | CK37: 55198.36
A38: II quincena | B38: 0.01.05 | C38: Suplencias | E38: 421475
A39: T O T A L E G R E S O S | D39: =SUM(D7:D38) -> 14897756 | E39: =SUM(E7:E38) -> 842950 | F39: =SUM(F7:F38) -> 302973.05 | G39: =SUM(G7:G38) -> 0 | H39: =SUM(H7:H38) -> 2909769.8 | I39: =SUM(I7:I38) -> 3344522.5 | J39: =SUM(J7:J38) -> 0 | K39: =SUM(K7:K38) -> 0 | ... M39: =SUM(M7:M38) -> 2042339 | N39: =SUM(N7:N33) -> 110396 | O39: =SUM(O7:O33) -> 1196701 | P39: =SUM(P7:P38) -> 662381 | Q39: =SUM(Q7:Q38) -> 331191 | R39: =SUM(R7:R38) -> 199347.3 | S39: =SUM(S7:S38) -> 0 | T39: =SUM(T7:T38) -> 0 | U39: =SUM(U7:U38) -> 0 | V39: =SUM(V7:V38) -> 0 | W39: =SUM(W7:W38) -> 0 | ... CR39: =SUM(CR7:CR38) -> 0

Sheet CK GASTOS OSN AC MES 2
A1: MINISTERIO DE CULTURA JUVENTUD Y DEPORTES
A2: CENTRO NACIONAL DE LA MUSICA
A3: ACTIVIDAD CENTRAL OSN | E3: 388427.45
A4: =+'CK GASTOS OSN AC MES 1'!A4 -> INFORME DE EJECUCION PRESUPUESTARIO 2024, EGRESOS
CJ5: 200 | CK5: 202
A6: FECHA | B6: DOCTO # | C6: DETALLE PAGO | D6: 0.01.01 | E6: 0.01.05 | F6: 0.02.01 | G6: 0.02.04 | H6: 0.03.01 | I6: 0.03.02 | J6: 0.03.03 | K6: 0.03.04 | L6: 0.03.99 | M6: 0.04.01 | N6: 0.04.05 | O6: 0.05.01 | P6: 0.05.02 | Q6: 0.05.03 | R6: 0.05.05 | S6: 1.01.01 | T6: 1.01.02 | U6: 1.01.04 | V6: 1.01.99 | W6: 1.02.01 | X6: 1.02.02 | Y6: 1.02.03 | Z6: 1.02.04 | AA6: 1.03.01 | AB6: 1.03.02 | AC6: 1.03.03 | AD6: 1.03.04 | AE6: 1.03.05 | AF6: 1.03.06 | AG6: 1.04.02 | AH6: 1.04.03 | AI6: 1.04.04 | AJ6: 1.04.05 | AK6: 1.04.06 | AL6: 1.04.99 | AM6: 1.05.01 | AN6: 1.05.02 | AO6: 1.05.03 | AP6: 1.05.04 | AQ6: 1.06.01 | AR6: 1.07.01 | AS6: 1.07.02 | AT6: 1.08.01 | AU6: 1.08.04 | AV6: 1.08.05 | AW6: 1.08.06 | AX6: 1.08.07 | AY6: 1.08.08. | AZ6: 1.08.99 | BA6: 1.99.02 | BB6: 1.99.99 | BC6: 2.01.01 | BD6: 2.01.02 | BE6: 2.01.04 | BF6: 2.01.99 | BG6: 2.02.03 | BH6: 2.03.01 | BI6: 2.03.03 | BJ6: 2.03.04 | BK6: 2.03.05 | BL6: 2.03.06 | BM6: 2.03.99 | BN6: 2.04.01 | BO6: 2.04.02 | BP6: 2.99.01 | BQ6: 2.99.03 | BR6: 2.99.04 | BS6: 2.99.05 | BT6: 2.99.06 | BU6: 2.99.07 | BV6: 2.99.99 | BW6: 3.04.05 | BX6: 5.01.01 | BY6: 5.01.02 | BZ6: 5.01.03 | CA6: 5.01.04 | CB6: 5.01.05 | CC6: 5.01.07 | CD6: 5.01.99 | CE6: 5.02.01 | CF6: 5.02.99 | CG6: 5.99.03 | CH6: 5.99.99 | CI6: 6.01.02 | CJ6: 6.01.03 | CK6: 6.01.03 | CL6: 6.02.99 | CM6: 6.03.01 | CN6: 6.03.99 | CO6: 6.04.01 | CP6: 6.06.01 | CQ6: 6.07.01 | CR6: 9.02.01
A8: APORTE PATRONAL LEY N°17 CONSTITUTIVA DE LA CCSS 1,57% (octubre) | CJ8: 355859.45
A9: APORTE PATRONAL LEY N°17 CONSTITUTIVA DE LA CCSS 0,25% (octubre) | CK9: 56665.52
A11: I QUINCENA | B11: 0.02.01 | C11: Tiempo extraordinario ( CLN ) | F11: 67816.45
A13: I QUINCENA | B13: 0.01.01 | C13: Sueldos para cargos fijos | D13: 7916995.5
A14: I QUINCENA | B14: 0.03.01 | C14: Retribución por años servidos | H14: 1451606
A15: I QUINCENA | B15: 0.03.99 | C15: Otros incentivos salariales | L15: 314242.25
A16: I QUINCENA | B16: 0.03.03 | C16: Prohibicion
A17: I QUINCENA | B17: 0.02.01 | C17: Tiempo extraordinario
A18: I QUINCENA | B18: 0.03.02 | C18: Restricción al ejercicio liberal de la profesión | I18: 1633236.2
A19: I QUINCENA | B19: 0.01.05 | C19: Suplencias | E19: 421475
A21: II QUINCENA | B21: 0.01.01 | C21: Sueldos para cargos fijos | D21: 7916995.5
A22: II QUINCENA | B22: 0.03.01 | C22: Retribución por años servidos | H22: 1451606
A23: II QUINCENA | B23: 0.03.99 | C23: Otros incentivos salariales | L23: 314242.25
A24: II QUINCENA | B24: 0.03.02 | C24: Restricción al ejercicio liberal de la profesión
A25: II QUINCENA | B25: 0.01.05 | C25: Suplencias | E25: 421475
A27: ASEMICULTURA | R27: 196205.3
B29: 00-004-05 | C29: Aporte Patronal BPDC | N29: 113331
B30: 00-004-01 | C30: Enferm y Maternidad | M30: 2096624
B31: 00-005-01 | C31: Invalidez, Vejez y Muerte | O31: 1228509
B32: 00-005-02 | C32: Fondo Pens Complementaria | P32: 679987
B33: 00-005-03 | C33: Fondo de capitalización Laboral | Q33: 339993
A101: T O T A L E G R E S O S | D101: =SUM(D7:D100) -> 15833991 | E101: =SUM(E7:E100) -> 842950 | F101: =SUM(F7:F100) -> 67816.45 | G101: =SUM(G7:G100) -> 0 | H101: =SUM(H7:H100) -> 2903212 | I101: =SUM(I7:I100) -> 1633236.2 | J101: =SUM(J7:J100) -> 0 | K101: =SUM(K7:K100) -> 0 | ... CS101: =SUM(CS7:CS100) -> 0

Sheet CK GASTOS OSN AC MES 3
A1: MINISTERIO DE CULTURA JUVENTUD Y DEPORTES
A2: CENTRO NACIONAL DE LA MUSICA
A3: ACTIVIDAD CENTRAL OSN
A4: =+'CK GASTOS OSN AC MES 1'!A4 -> INFORME DE EJECUCION PRESUPUESTARIO 2024, EGRESOS
CJ5: 200 | CK5: 202
A6: FECHA | B6: DOCTO # | C6: DETALLE PAGO | D6: 0.01.01 | E6: 0.01.05 | F6: 0.02.01 | G6: 0.02.04 | H6: 0.03.01 | I6: 0.03.02 | J6: 0.03.03 | K6: 0.03.04 | L6: 0.03.99 | M6: 0.04.01 | N6: 0.04.05 | O6: 0.05.01 | P6: 0.05.02 | Q6: 0.05.03 | R6: 0.05.05 | S6: 1.01.01 | T6: 1.01.02 | U6: 1.01.04 | V6: 1.01.99 | W6: 1.02.01 | X6: 1.02.02 | Y6: 1.02.03 | Z6: 1.02.04 | AA6: 1.03.01 | AB6: 1.03.02 | AC6: 1.03.03 | AD6: 1.03.04 | AE6: 1.03.05 | AF6: 1.03.06 | AG6: 1.04.02 | AH6: 1.04.03 | AI6: 1.04.04 | AJ6: 1.04.05 | AK6: 1.04.06 | AL6: 1.04.99 | AM6: 1.05.01 | AN6: 1.05.02 | AO6: 1.05.03 | AP6: 1.05.04 | AQ6: 1.06.01 | AR6: 1.07.01 | AS6: 1.07.02 | AT6: 1.08.01 | AU6: 1.08.04 | AV6: 1.08.05 | AW6: 1.08.06 | AX6: 1.08.07 | AY6: 1.08.08. | AZ6: 1.08.99 | BA6: 1.99.02 | BB6: 1.99.99 | BC6: 2.01.01 | BD6: 2.01.02 | BE6: 2.01.04 | BF6: 2.01.99 | BG6: 2.02.03 | BH6: 2.03.01 | BI6: 2.03.03 | BJ6: 2.03.04 | BK6: 2.03.05 | BL6: 2.03.06 | BM6: 2.03.99 | BN6: 2.04.01 | BO6: 2.04.02 | BP6: 2.99.01 | BQ6: 2.99.03 | BR6: 2.99.04 | BS6: 2.99.05 | BT6: 2.99.06 | BU6: 2.99.07 | BV6: 2.99.99 | BW6: 3.04.05 | BX6: 5.01.01 | BY6: 5.01.02 | BZ6: 5.01.03 | CA6: 5.01.04 | CB6: 5.01.05 | CC6: 5.01.07 | CD6: 5.01.99 | CE6: 5.02.01 | CF6: 5.02.99 | CG6: 5.99.03 | CH6: 5.99.99 | CI6: 6.01.02 | CJ6: 6.01.03 | CK6: 6.01.03 | CL6: 6.02.99 | CM6: 6.03.01 | CN6: 6.03.99 | CO6: 6,04,01 | CP6: 6.06.01 | CQ6: 6.07.01 | CR6: 9.02.01
A8: APORTE PATRONAL LEY N°17 CONSTITUTIVA DE LA CCSS 1,57% (noviembre) | CJ8: 184279.61
A9: APORTE PATRONAL LEY N°17 CONSTITUTIVA DE LA CCSS 0,25% (noviembre) | CK9: 29343.89
A11: APORTE PATRONAL LEY N°17 CONSTITUTIVA DE LA CCSS 1,57% (noviembre) II QUINCENA | CJ11: 184279.61
A12: APORTE PATRONAL LEY N°17 CONSTITUTIVA DE LA CCSS 0,25% (noviembre) II QUINCENA | CK12: 29343.89
C14: AGUINALDOS | J14: 18168550
B16: 00-004-05 | C16: Aporte Patronal BPDC | N16: 117375
B17: 00-004-01 | C17: Enferm y Maternidad
B18: 00-005-01 | C18: Invalidez, Vejez y Muerte | O18: 1272351
B19: 00-005-02 | C19: Fondo Pens Complementaria | P19: 704253
B20: 00-005-03 | C20: Fondo de capitalización Laboral | Q20: 352127
A22: II QUINCENA | B22: 0.01.01 | C22: Sueldos para cargos fijos | D22: 9040465.1
A23: II QUINCENA | B23: 0.03.01 | C23: Retribución por años servidos
A24: II QUINCENA | B24: 0.03.99 | C24: Otros incentivos salariales
A25: II QUINCENA | B25: 0.03.03 | C25: Prohibicion
A26: II QUINCENA | B26: 0.02.01 | C26: Tiempo extraordinario
A27: II QUINCENA | B27: 0.03.02 | C27: Restricción al ejercicio liberal de la profesión | I27: 50013.74
A29: II QUINCENA | C29: Otras prestaciones INM
A30: II QUINCENA | B30: 0.01.05 | C30: Suplencias | E30: 421475
A31: CLN | B31: 0.02.01 | C31: Tiempo extraordinario | F31: 76595.55
A33: II Q INM | B33: 0.03.02 | C33: Restricción al ejercicio liberal de la profesión | I33: 78175
A34: II Q PROD | B34: 0.03.01 | C34: Retribución por años servidos | H34: 3083832.4
A35: I Q CLN | B35: 0.02.01 | C35: Tiempo extraordinario | F35: 67145
A37: I Q | B37: 0.01.01 | C37: Sueldos para cargos fijos | D37: 9055231.8
B38: 0.03.01 | C38: Retribución por años servidos | H38: 1451606
B39: 0.03.99 | C39: Otros incentivos salariales | L39: 137493.55
B40: 0.03.02 | C40: Restricción al ejercicio liberal de la profesión | I40: 495000
B41: 0.01.05 | C41: Suplencias | E41: 421475
A43: I Q PROD | B43: 0.03.01 | C43: Retribución por años servidos | H43: 852418.5
D44: 2157926.4
A102: T O T A L E G R E S O S | D102: =SUM(D7:D101) -> 20253623 | E102: =SUM(E7:E101) -> 842950 | F102: =SUM(F7:F101) -> 143740.55 | G102: =SUM(G7:G101) -> 0 | H102: =SUM(H7:H101) -> 5387856.9 | I102: =SUM(I7:I101) -> 623188.74 | J102: =SUM(J7:J101) -> 18168550 | K102: =SUM(K7:K101) -> 0 | ... CR102: =SUM(CR7:CR101) -> 0

Sheet Cert.OSN AC
A1: MINISTERIO DE CULTURA JUVENTUD Y DEPORTES
A2: CENTRO NACIONAL DE LA MUSICA | K2: =+'CK GASTOS OSN AC MES 1'!K9-'CK GASTOS OSN AC MES 1'!K8 -> 0
A3: PRODUCCION OSN
A4: INFORME DE EJECUCION PRESUPUESTARIO 2017
A6: FECHA | B6: CERT # | C6: DETALLE PAGO | D6: 0.01.01 | E6: 0.01.05 | F6: 0.02.01 | G6: 0.02.04 | H6: 0.03.01 | I6: 0.03.02 | J6: 0.03.03 | K6: 0.03.04 | L6: 0.03.99 | M6: 0.04.01 | N6: 0.04.05 | O6: 0.05.01 | P6: 0.05.02 | Q6: 0.05.03 | R6: 1.01.01 | S6: 1.01.02 | T6: 1.01.99 | U6: 1.02.01 | V6: 1.02.02 | W6: 1.02.03 | X6: 1.02.04 | Y6: 1.03.01 | Z6: 1.03.02 | AA6: 1.03.03 | AB6: 1.03.04 | AC6: 1.03.05 | AD6: 1.03.06 | AE6: 1.04.03 | AF6: 1.04.04 | AG6: 1.04.05 | AH6: 1.04.06 | AI6: 1.04.99 | AJ6: 1.05.01 | AK6: 1.05.02 | AL6: 1.05.03 | AM6: 1.05.04 | AN6: 1.06.01 | AO6: 1.07.01 | AP6: 1.07.02 | AQ6: 1.08.01 | AR6: 1.08.04 | AS6: 1.08.05 | AT6: 1.08.06 | AU6: 1.08.07 | AV6: 1.08.08. | AW6: 1.08.99 | AX6: 1.99.02 | AY6: 1.99.99 | AZ6: 2.01.01 | BA6: 2.01.02 | BB6: 2.01.04 | BC6: 2.01.99 | BD6: 2.02.03 | BE6: 2.03.01 | BF6: 2.03.03 | BG6: 2.03.04 | BH6: 2.03.05 | BI6: 2.03.06 | BJ6: 2.03.99 | BK6: 2.04.01 | BL6: 2.04.02 | BM6: 2.99.01 | BN6: 2.99.03 | BO6: 2.99.04 | BP6: 2.99.05 | BQ6: 2.99.06 | BR6: 2.99.07 | BS6: 2.99.99 | BT6: 3.04.05 | BU6: 5.01.01 | BV6: 5.01.02 | BW6: 5.01.03 | BX6: 5.01.04 | BY6: 5.01.05 | BZ6: 5.01.07 | CA6: 5.01.99 | CB6: 5.02.01 | CC6: 5.02.99 | CD6: 5.99.03 | CE6: 5.99.99 | CF6: 6.01.02 | CG6: 6.02.99 | CH6: 6.03.01 | CI6: 6.07.01 | CJ6: 6.04.01 | CK6: 9.02.01
A14: T O T A L C E R T F I C A D O | D14: =SUM(D7:D13) -> 0 | E14: =SUM(E7:E13) -> 0 | F14: =SUM(F7:F13) -> 0 | G14: =SUM(G7:G13) -> 0 | H14: =SUM(H7:H13) -> 0 | I14: =SUM(I7:I13) -> 0 | J14: =SUM(J7:J13) -> 0 | K14: =SUM(K7:K13) -> 0 | ... CK14: =SUM(CK7:CK13) -> 0
A19: 45524 | B19: 132 | C19: Pago de retroactivo de costo de vida 2020-2023 para los exfuncionarios del Centro Nacional de la Música | D19: 133742 | I19: 6500 | J19: 12656 | K19: 11683
C20: AJUSTE PARA CERTIFICACION COSTO DE VIDA | D20: 1.5822477e+08 | I20: 33890358 | J20: 82449.35 | K20: 17515853

Sheet OSN AC
A1: CENTRO NACIONAL DE LA MÚSICA | R1: MINISTERIO DE CULTURA JUVENTUD Y DEPORTES
A2: =+'OSN PD'!A2 -> PRESUPUESTO ORDINARIO 2024 | R2: ORQUESTA SINFONICA NACIONAL
A3: EGRESOS | K3: 31368.5
A4: OSN ACTIVIDAD CENTRAL | C4: 10 | K4: 7828.5
K5: =+K3-K4 -> 23540 | R5: 31 588 824,00
C7: =+'OSN PD'!C7:F7 -> P R E S U P U E S T O 2 0 2 4 | G7: ACUMULADO | H7: =+'OSN PD'!H7:H8 -> OCTUBRE | I7: =+'OSN PD'!I7:I8 -> NOVIEMBRE | J7: =+'OSN PD'!J7:J8 -> DICIEMBRE | K7: IV ESTE TRIMESTRE | L7: TOTAL | M7: CERTIFICADO TOTAL | N7: COMPROMISOS | O7: DISPONIBLE SEGÚN EJECUCION | P7: DISPONIBLE SEGUN EJE CERTIFICADA | Q7: DISPONIBLE CON COMPROMISOS | R7: CUADRO DE MODIFICACIONES INTERNAS | AT7: CUADRO DE MODIFICACIONES EXTERNAS | AZ7: CUADRO DE PRESUPUESTO EXTRAORDINARIO
A8: PARTIDAS Y SUBPARTIDAS | C8: PRESUPUESTO ORDINARIO | D8: TOTAL EXTRAOR | E8: TOTAL MODIFICACIONES INT. - EXT. | F8: PRESUPUESTO FINAL | R8: INTERNA Nº 1 1er. Modificación Presupuestaria (DGPN-H-008) | S8: INTERNA Nº 2 | T8: INTERNA Nº 3 H-005 | U8: INTERNA Nº 4 DGPN H-012 | V8: EXTERNA Nº 5 DGPN H-0014 ARTICULO 4 | W8: EXTERNA Nº 6 DGPN H-0014 ARTICULO 2 | X8: INTERNA Nº 7 | Y8: INTERNA Nº 8 | Z8: INTERNA Nº 9 | AA8: INTERNA Nº 10 | AB8: INTERNA Nº 11 | AC8: INTERNA Nº 12 | AD8: INTERNA Nº 13 | AE8: INTERNA Nº 14 | AF8: INTERNA Nº 15 | AG8: INTERNA Nº 16 | AH8: INTERNA Nº 17 | AI8: INTERNA Nº 18 | AJ8: INTERNA Nº 19 | AK8: INTERNA Nº 20 | AL8: INTERNA Nº 21 | AM8: INTERNA Nº 22 | AN8: INTERNA Nº 23 | AO8: INTERNA Nº 24 | AP8: INTERNA Nº 25 | AQ8: INTERNA Nº 26 | AR8: INTERNA Nº 27 | AS8: TOTAL MODIFICACION INTERNA | AT8: E=TERNA MODIFICACION H-0014 ARTICULO 2 | AU8: EXTERNA Nº 02 | AV8: EXTERNA Nº 03 | AW8: EXTERNA Nº 04 | AX8: EXTERNA Nº05 | AY8: TOTAL MODIFICACION EXTERNA | AZ8: EXTRAORD Nº 001 | BA8: EXTRAORD Nº 002 | BB8: EXTRAORD Nº 003 Y MOD 3 APROBACION LEGISLATIVA | BC8: EXTRAORD Nº 004 | BD8: EXTRAORD Nº 005 | BE8: EXTRAORD Nº 006 | BF8: EXTRAORD Nº 007 | BG8: TOTAL EXTRAOR
A10: 0 | B10: REMUNERACIONES | C10: =SUM(C12:C26) -> 403607580 | D10: =SUM(D12:D25) -> 0 | E10: =SUM(E12:E25) -> -20957595 | F10: =SUM(F12:F26) -> 3.8264999e+08 | G10: 2.6187503e+08 | H10: =SUM(H12:H26) -> 27468811 | I10: =SUM(I12:I26) -> 26564340 | J10: =SUM(J12:J26) -> 48003509 | K10: =SUM(K12:K26) -> 1.0203666e+08 | L10: =SUM(L12:L26) -> 3.6391169e+08 | M10: =SUM(M12:M26) -> 0 | N10: =SUM(N12:N26) -> 0 | O10: =SUM(O12:O26) -> 18738293 | ... Q10: =SUM(Q12:Q26) -> 18738293 | R10: =SUM(R12:R25) -> 2161220 | S10: =SUM(S12:S25) -> 0 | T10: =SUM(T12:T25) -> 0 | U10: =SUM(U12:U25) -> 0 | V10: =SUM(V12:V25) -> -10000000 | W10: =SUM(W12:W25) -> -13118815 | X10: =SUM(X12:X25) -> 0 | Y10: =SUM(Y12:Y25) -> 0 | ... BG10: =SUM(BG12:BG25) -> 0
A12: 0.01.01 | B12: Sueldos para cargos fijos | C12: 156849063 | D12: =+BG12 -> 0 | E12: =+AS12+AY12 -> 24791324 | F12: =+C12+D12+E12 -> 181640387 | G12: 1.2749302e+08 | H12: =+'CK GASTOS OSN AC MES 1'!D39 -> 14897756 | I12: =+'CK GASTOS OSN AC MES 2'!D101 -> 15833991 | J12: =+'CK GASTOS OSN AC MES 3'!D102 -> 20253623 | K12: =SUM(H12:J12) -> 50985370 | L12: =K12+G12 -> 1.7847839e+08 | M12: =+'Cert.OSN AC'!D14 -> 0 | N12: =IF(M12>0,(L12-M12),0) -> 0 | O12: =F12-L12 -> 3161997 | P12: =F12-M12 -> 181640387 | Q12: =IF(N12>0,(F12-L12-N12),(F12-L12+N12)) -> 3161997 | R12: 31588824 | T12: -697500 | W12: -6100000 | AS12: =SUM(R12:AR12) -> 24791324 | AT12: 0 | AU12: 0 | AY12: =+AT12+AU12+AV12+AW12+AX12 -> 0 | BG12: =SUM(AZ12:BF12) -> 0
A13: 0.01.05 | B13: Suplencias | C13: 31000000 | D13: =+BG13 -> 0 | E13: =+AS13+AY13 -> -10000000 | F13: =+C13+D13+E13 -> 21000000 | G13: 7586550 | H13: =+'CK GASTOS OSN AC MES 1'!E39 -> 842950 | I13: =+'CK GASTOS OSN AC MES 2'!E101 -> 842950 | J13: =+'CK GASTOS OSN AC MES 3'!E102 -> 842950 | K13: =SUM(H13:J13) -> 2528850 | L13: =K13+G13 -> 10115400 | M13: =+'Cert.OSN AC'!E14 -> 0 | N13: =IF(M13>0,(L13-M13),0) -> 0 | O13: =F13-L13 -> 10884600 | P13: =F13-M13 -> 21000000 | Q13: =IF(N13>0,(F13-L13-N13),(F13-L13+N13)) -> 10884600 | V13: -10000000 | AS13: =SUM(R13:AR13) -> -10000000 | AT13: 0 | AY13: =+AT13+AU13+AV13+AW13+AX13 -> 0 | BG13: =SUM(AZ13:BF13) -> 0
A14: 0.02.01 | B14: Tiempo extraordinario | C14: 3500000 | D14: =+BG14 -> 0 | E14: =+AS14+AY14 -> 0 | F14: =+C14+D14+E14 -> 3500000 | G14: 2985393.8 | H14: =+'CK GASTOS OSN AC MES 1'!F39 -> 302973.05 | I14: =+'CK GASTOS OSN AC MES 2'!F101 -> 67816.45 | J14: =+'CK GASTOS OSN AC MES 3'!F102 -> 143740.55 | K14: =SUM(H14:J14) -> 514530.05 | L14: =K14+G14 -> 3499923.8 | M14: =+'Cert.OSN AC'!F14 -> 0 | N14: =IF(M14>0,(L14-M14),0) -> 0 | O14: =F14-L14 -> 76.15 | P14: =F14-M14 -> 3500000 | Q14: =IF(N14>0,(F14-L14-N14),(F14-L14+N14)) -> 76.15 | AS14: =SUM(R14:AR14) -> 0 | AT14: 0 | AY14: =+AT14+AU14+AV14+AW14+AX14 -> 0 | BG14: =SUM(AZ14:BF14) -> 0
